BEGIN:VCALENDAR
VERSION:2.0
PRODID:-//Carver County Local News - ECPv6.15.20//NONSGML v1.0//EN
CALSCALE:GREGORIAN
METHOD:PUBLISH
X-ORIGINAL-URL:https://cclocalnews.org
X-WR-CALDESC:Events for Carver County Local News
REFRESH-INTERVAL;VALUE=DURATION:PT1H
X-Robots-Tag:noindex
X-PUBLISHED-TTL:PT1H
BEGIN:VTIMEZONE
TZID:America/Chicago
BEGIN:DAYLIGHT
TZOFFSETFROM:-0600
TZOFFSETTO:-0500
TZNAME:CDT
DTSTART:20240310T080000
END:DAYLIGHT
BEGIN:STANDARD
TZOFFSETFROM:-0500
TZOFFSETTO:-0600
TZNAME:CST
DTSTART:20241103T070000
END:STANDARD
BEGIN:DAYLIGHT
TZOFFSETFROM:-0600
TZOFFSETTO:-0500
TZNAME:CDT
DTSTART:20250309T080000
END:DAYLIGHT
BEGIN:STANDARD
TZOFFSETFROM:-0500
TZOFFSETTO:-0600
TZNAME:CST
DTSTART:20251102T070000
END:STANDARD
BEGIN:DAYLIGHT
TZOFFSETFROM:-0600
TZOFFSETTO:-0500
TZNAME:CDT
DTSTART:20260308T080000
END:DAYLIGHT
BEGIN:STANDARD
TZOFFSETFROM:-0500
TZOFFSETTO:-0600
TZNAME:CST
DTSTART:20261101T070000
END:STANDARD
END:VTIMEZONE
BEGIN:VEVENT
DTSTART;TZID=America/Chicago:20250906T100000
DTEND;TZID=America/Chicago:20250906T130000
DTSTAMP:20260420T045906
CREATED:20250801T031054Z
LAST-MODIFIED:20250801T031158Z
UID:10002180-1757152800-1757163600@cclocalnews.org
SUMMARY:Master Gardener Help Desk
DESCRIPTION:Bring your yard and gardening questions to the library help desk\, staffed by Carver/Scott County Extension Master Gardener volunteers\, who will answer questions and provide current research-based yard and garden information. Every Saturday\, May 3 through September 27\, in the library lobby. \nFor more information on Carver/Scott Master Gardeners\, see http://www.carverscottmastergardeners.org. \nShare this:\n				Share on X (Opens in new window)\n				X\n			\n				Share on Facebook (Opens in new window)\n				Facebook\n			\n				Email a link to a friend (Opens in new window)\n				Email\n			\n				Print (Opens in new window)\n				Print\n			More\n				Share on LinkedIn (Opens in new window)\n				LinkedIn\n			\n				Share on Reddit (Opens in new window)\n				Reddit\n			\n				Share on Tumblr (Opens in new window)\n				Tumblr\n			\n				Share on Threads (Opens in new window)\n				Threads\n			\n				Share on WhatsApp (Opens in new window)\n				WhatsApp\n			\n				Share on Nextdoor (Opens in new window)\n				Nextdoor\n			Like this:Like Loading...
URL:https://cclocalnews.org/event/master-gardener-help-desk/2025-09-06/
LOCATION:Chanhassen Library\, 7711 Kerber Blvd.\, Chanhassen\, MN\, 55317\, United States
CATEGORIES:Library,Nature and Outdoors,Social Gatherings,Workshops and Seminars
ATTACH;FMTTYPE=image/jpeg:https://cclocalnews.org/wp-content/uploads/2025/07/1735597681.jpg
END:VEVENT
BEGIN:VEVENT
DTSTART;TZID=America/Chicago:20250913T100000
DTEND;TZID=America/Chicago:20250913T130000
DTSTAMP:20260420T045906
CREATED:20250801T031054Z
LAST-MODIFIED:20250801T031158Z
UID:10002181-1757757600-1757768400@cclocalnews.org
SUMMARY:Master Gardener Help Desk
DESCRIPTION:Bring your yard and gardening questions to the library help desk\, staffed by Carver/Scott County Extension Master Gardener volunteers\, who will answer questions and provide current research-based yard and garden information. Every Saturday\, May 3 through September 27\, in the library lobby. \nFor more information on Carver/Scott Master Gardeners\, see http://www.carverscottmastergardeners.org. \nShare this:\n				Share on X (Opens in new window)\n				X\n			\n				Share on Facebook (Opens in new window)\n				Facebook\n			\n				Email a link to a friend (Opens in new window)\n				Email\n			\n				Print (Opens in new window)\n				Print\n			More\n				Share on LinkedIn (Opens in new window)\n				LinkedIn\n			\n				Share on Reddit (Opens in new window)\n				Reddit\n			\n				Share on Tumblr (Opens in new window)\n				Tumblr\n			\n				Share on Threads (Opens in new window)\n				Threads\n			\n				Share on WhatsApp (Opens in new window)\n				WhatsApp\n			\n				Share on Nextdoor (Opens in new window)\n				Nextdoor\n			Like this:Like Loading...
URL:https://cclocalnews.org/event/master-gardener-help-desk/2025-09-13/
LOCATION:Chanhassen Library\, 7711 Kerber Blvd.\, Chanhassen\, MN\, 55317\, United States
CATEGORIES:Library,Nature and Outdoors,Social Gatherings,Workshops and Seminars
ATTACH;FMTTYPE=image/jpeg:https://cclocalnews.org/wp-content/uploads/2025/07/1735597681.jpg
END:VEVENT
BEGIN:VEVENT
DTSTART;TZID=America/Chicago:20250920T100000
DTEND;TZID=America/Chicago:20250920T130000
DTSTAMP:20260420T045906
CREATED:20250801T031054Z
LAST-MODIFIED:20250801T031158Z
UID:10002182-1758362400-1758373200@cclocalnews.org
SUMMARY:Master Gardener Help Desk
DESCRIPTION:Bring your yard and gardening questions to the library help desk\, staffed by Carver/Scott County Extension Master Gardener volunteers\, who will answer questions and provide current research-based yard and garden information. Every Saturday\, May 3 through September 27\, in the library lobby. \nFor more information on Carver/Scott Master Gardeners\, see http://www.carverscottmastergardeners.org. \nShare this:\n				Share on X (Opens in new window)\n				X\n			\n				Share on Facebook (Opens in new window)\n				Facebook\n			\n				Email a link to a friend (Opens in new window)\n				Email\n			\n				Print (Opens in new window)\n				Print\n			More\n				Share on LinkedIn (Opens in new window)\n				LinkedIn\n			\n				Share on Reddit (Opens in new window)\n				Reddit\n			\n				Share on Tumblr (Opens in new window)\n				Tumblr\n			\n				Share on Threads (Opens in new window)\n				Threads\n			\n				Share on WhatsApp (Opens in new window)\n				WhatsApp\n			\n				Share on Nextdoor (Opens in new window)\n				Nextdoor\n			Like this:Like Loading...
URL:https://cclocalnews.org/event/master-gardener-help-desk/2025-09-20/
LOCATION:Chanhassen Library\, 7711 Kerber Blvd.\, Chanhassen\, MN\, 55317\, United States
CATEGORIES:Library,Nature and Outdoors,Social Gatherings,Workshops and Seminars
ATTACH;FMTTYPE=image/jpeg:https://cclocalnews.org/wp-content/uploads/2025/07/1735597681.jpg
END:VEVENT
BEGIN:VEVENT
DTSTART;TZID=America/Chicago:20250920T100000
DTEND;TZID=America/Chicago:20250920T160000
DTSTAMP:20260420T045906
CREATED:20250908T214928Z
LAST-MODIFIED:20250908T214928Z
UID:10002295-1758362400-1758384000@cclocalnews.org
SUMMARY:Spoon Carving at the Arb
DESCRIPTION:The Arboretum Auxiliary Woodworkers group is hosting a drop-in event  in the Margot Picnic Shelter to carve spoons\, spatulas and other whittling projects. Bring your own carving tools. \n  \nWe have chopping blocks to use\, as well as spoon blanks and billets. Even if you don’t carve\, feel free to drop by to ask questions or observe how we transform logs into spoons. While at the Arboretum\, check out the Skyway Gallery display\, “Arboretum Trees of Yore” featuring spoons carved from fallen Arboretum trees. \n  \nPlease reserve  gate admission online ($20/non members\, $0/members & kids). \nShare this:\n				Share on X (Opens in new window)\n				X\n			\n				Share on Facebook (Opens in new window)\n				Facebook\n			\n				Email a link to a friend (Opens in new window)\n				Email\n			\n				Print (Opens in new window)\n				Print\n			More\n				Share on LinkedIn (Opens in new window)\n				LinkedIn\n			\n				Share on Reddit (Opens in new window)\n				Reddit\n			\n				Share on Tumblr (Opens in new window)\n				Tumblr\n			\n				Share on Threads (Opens in new window)\n				Threads\n			\n				Share on WhatsApp (Opens in new window)\n				WhatsApp\n			\n				Share on Nextdoor (Opens in new window)\n				Nextdoor\n			Like this:Like Loading...
URL:https://cclocalnews.org/event/spoon-carving-at-the-arb/
LOCATION:Minnesota Landscape Arboretum\, 3675 Arboretum Dr\, Chaska\, 55318\, 55318\, United States
CATEGORIES:Arts and Crafts,Family-Friendly,Workshops and Seminars
ATTACH;FMTTYPE=image/jpeg:https://cclocalnews.org/wp-content/uploads/2025/09/spoontreesofyore1200x800_2-plani006-University-of-Minnesota.jpg
END:VEVENT
BEGIN:VEVENT
DTSTART;TZID=America/Chicago:20250927T100000
DTEND;TZID=America/Chicago:20250927T130000
DTSTAMP:20260420T045906
CREATED:20250801T031054Z
LAST-MODIFIED:20250801T031158Z
UID:10002183-1758967200-1758978000@cclocalnews.org
SUMMARY:Master Gardener Help Desk
DESCRIPTION:Bring your yard and gardening questions to the library help desk\, staffed by Carver/Scott County Extension Master Gardener volunteers\, who will answer questions and provide current research-based yard and garden information. Every Saturday\, May 3 through September 27\, in the library lobby. \nFor more information on Carver/Scott Master Gardeners\, see http://www.carverscottmastergardeners.org. \nShare this:\n				Share on X (Opens in new window)\n				X\n			\n				Share on Facebook (Opens in new window)\n				Facebook\n			\n				Email a link to a friend (Opens in new window)\n				Email\n			\n				Print (Opens in new window)\n				Print\n			More\n				Share on LinkedIn (Opens in new window)\n				LinkedIn\n			\n				Share on Reddit (Opens in new window)\n				Reddit\n			\n				Share on Tumblr (Opens in new window)\n				Tumblr\n			\n				Share on Threads (Opens in new window)\n				Threads\n			\n				Share on WhatsApp (Opens in new window)\n				WhatsApp\n			\n				Share on Nextdoor (Opens in new window)\n				Nextdoor\n			Like this:Like Loading...
URL:https://cclocalnews.org/event/master-gardener-help-desk/2025-09-27/
LOCATION:Chanhassen Library\, 7711 Kerber Blvd.\, Chanhassen\, MN\, 55317\, United States
CATEGORIES:Library,Nature and Outdoors,Social Gatherings,Workshops and Seminars
ATTACH;FMTTYPE=image/jpeg:https://cclocalnews.org/wp-content/uploads/2025/07/1735597681.jpg
END:VEVENT
END:VCALENDAR