BEGIN:VCALENDAR
VERSION:2.0
PRODID:-//Carver County Local News - ECPv6.15.20//NONSGML v1.0//EN
CALSCALE:GREGORIAN
METHOD:PUBLISH
X-WR-CALNAME:Carver County Local News
X-ORIGINAL-URL:https://cclocalnews.org
X-WR-CALDESC:Events for Carver County Local News
REFRESH-INTERVAL;VALUE=DURATION:PT1H
X-Robots-Tag:noindex
X-PUBLISHED-TTL:PT1H
BEGIN:VTIMEZONE
TZID:America/Chicago
BEGIN:DAYLIGHT
TZOFFSETFROM:-0600
TZOFFSETTO:-0500
TZNAME:CDT
DTSTART:20240310T080000
END:DAYLIGHT
BEGIN:STANDARD
TZOFFSETFROM:-0500
TZOFFSETTO:-0600
TZNAME:CST
DTSTART:20241103T070000
END:STANDARD
BEGIN:DAYLIGHT
TZOFFSETFROM:-0600
TZOFFSETTO:-0500
TZNAME:CDT
DTSTART:20250309T080000
END:DAYLIGHT
BEGIN:STANDARD
TZOFFSETFROM:-0500
TZOFFSETTO:-0600
TZNAME:CST
DTSTART:20251102T070000
END:STANDARD
BEGIN:DAYLIGHT
TZOFFSETFROM:-0600
TZOFFSETTO:-0500
TZNAME:CDT
DTSTART:20260308T080000
END:DAYLIGHT
BEGIN:STANDARD
TZOFFSETFROM:-0500
TZOFFSETTO:-0600
TZNAME:CST
DTSTART:20261101T070000
END:STANDARD
END:VTIMEZONE
BEGIN:VEVENT
DTSTART;TZID=America/Chicago:20250605T183000
DTEND;TZID=America/Chicago:20250605T193000
DTSTAMP:20260420T032511
CREATED:20250204T202939Z
LAST-MODIFIED:20250425T073428Z
UID:10000143-1749148200-1749151800@cclocalnews.org
SUMMARY:Session 6: Heroes Among Us: Tracing Family Military History
DESCRIPTION:Are you curious about your family history?The Chaska Historical Society is excited to announce our Genealogy Research Series from January to July 2025. \nOnce a month our genealogy expert will present a topic to help guide you in your research. \n$20 (non-members); $15 (CHS members) \n\n\n\n\nEvent Venue: \n\n\n\n\n\n\n\n\n\n\n\n\n\n\n\n\n\nWe strive to keep all listed events up to date\, but event details may change. Please verify event information with the event organizers or official sources before attending. \n\n\n\n\n\n\n\n\n\n\nShare this:\n				Share on X (Opens in new window)\n				X\n			\n				Share on Facebook (Opens in new window)\n				Facebook\n			\n				Email a link to a friend (Opens in new window)\n				Email\n			\n				Print (Opens in new window)\n				Print\n			More\n				Share on LinkedIn (Opens in new window)\n				LinkedIn\n			\n				Share on Reddit (Opens in new window)\n				Reddit\n			\n				Share on Tumblr (Opens in new window)\n				Tumblr\n			\n				Share on Threads (Opens in new window)\n				Threads\n			\n				Share on WhatsApp (Opens in new window)\n				WhatsApp\n			\n				Share on Nextdoor (Opens in new window)\n				Nextdoor\n			Like this:Like Loading...
URL:https://cclocalnews.org/event/session-6-heroes-among-us-tracing-family-military-history/
LOCATION:Chaska History Center\, 112 W 4th St\, Chaska\, Minnesota\, 55318\, United States
CATEGORIES:Cultural and Heritage,Workshops and Seminars
ATTACH;FMTTYPE=image/png:https://cclocalnews.org/wp-content/uploads/2025/02/image-5.png
END:VEVENT
BEGIN:VEVENT
DTSTART;TZID=America/Chicago:20250608T100000
DTEND;TZID=America/Chicago:20250608T110000
DTSTAMP:20260420T032511
CREATED:20250324T201029Z
LAST-MODIFIED:20250425T073427Z
UID:10000254-1749376800-1749380400@cclocalnews.org
SUMMARY:Yoga in the Gardens
DESCRIPTION:Event Description:\n\n\n\nWith over 1\,200 acres of breathing room\, including peaceful indoor spaces\, the Arboretum serves as a refuge to rejuvenate the mind\, body and spirit in one of the greenest spaces in Minnesota. Our Yoga in the Gardens series features year-round wellness classes led by local instructors. Classes include traditional yoga\, meditation\, sound healing and more\, allowing you to explore what yoga is truly about. This session will be held near the Waterfall Pond. And your yoga ticket includes admission to the Arboretum – we’d love for you to experience our gardens before or after your yoga practice.  \n\n\n\nVisit the website to register.Members: $7.50 per classNon-members: $27.50 per classKids Yoga: $5 per child \n\n\n\n\n\nEvent Venue: \n\n\n\n\n\n\n\n\n\n\n\n\n\n\n\nWe strive to keep all listed events up to date\, but event details may change. Please verify event information with the event organizers or official sources before attending. \n\n\n\n\n\n\n\n\n\n\nShare this:\n				Share on X (Opens in new window)\n				X\n			\n				Share on Facebook (Opens in new window)\n				Facebook\n			\n				Email a link to a friend (Opens in new window)\n				Email\n			\n				Print (Opens in new window)\n				Print\n			More\n				Share on LinkedIn (Opens in new window)\n				LinkedIn\n			\n				Share on Reddit (Opens in new window)\n				Reddit\n			\n				Share on Tumblr (Opens in new window)\n				Tumblr\n			\n				Share on Threads (Opens in new window)\n				Threads\n			\n				Share on WhatsApp (Opens in new window)\n				WhatsApp\n			\n				Share on Nextdoor (Opens in new window)\n				Nextdoor\n			Like this:Like Loading...
URL:https://cclocalnews.org/event/yoga-in-the-gardens-9/
LOCATION:Minnesota Landscape Arboretum\, 3675 Arboretum Dr\, Chaska\, 55318\, 55318\, United States
CATEGORIES:Health and Fitness,Workshops and Seminars
ATTACH;FMTTYPE=image/png:https://cclocalnews.org/wp-content/uploads/2025/03/image-27.png
END:VEVENT
BEGIN:VEVENT
DTSTART;TZID=America/Chicago:20250612T180000
DTEND;TZID=America/Chicago:20250612T190000
DTSTAMP:20260420T032511
CREATED:20250425T074352Z
LAST-MODIFIED:20250425T074354Z
UID:10000376-1749751200-1749754800@cclocalnews.org
SUMMARY:Yoga in the Gardens
DESCRIPTION:Event Description:\n\n\n\nWith over 1\,200 acres of breathing room\, including peaceful indoor spaces\, the Arboretum serves as a refuge to rejuvenate the mind\, body and spirit in one of the greenest spaces in Minnesota. Our Yoga in the Gardens series features year-round wellness classes led by local instructors. Classes include traditional yoga\, meditation\, sound healing and more\, allowing you to explore what yoga is truly about. This session will be held near the Waterfall Pond. And your yoga ticket includes admission to the Arboretum – we’d love for you to experience our gardens before or after your yoga practice.  \n\n\n\nVisit the website to register.Members: $7.50 per classNon-members: $27.50 per classKids Yoga: $5 per child \n\n\n\n\n\nEvent Venue: \n\n\n\n\n\n\n\n\n\n\n\n\n\n\n\nWe strive to keep all listed events up to date\, but event details may change. Please verify event information with the event organizers or official sources before attending. \n\n\n\n\n\n\n\n\n\n\nShare this:\n				Share on X (Opens in new window)\n				X\n			\n				Share on Facebook (Opens in new window)\n				Facebook\n			\n				Email a link to a friend (Opens in new window)\n				Email\n			\n				Print (Opens in new window)\n				Print\n			More\n				Share on LinkedIn (Opens in new window)\n				LinkedIn\n			\n				Share on Reddit (Opens in new window)\n				Reddit\n			\n				Share on Tumblr (Opens in new window)\n				Tumblr\n			\n				Share on Threads (Opens in new window)\n				Threads\n			\n				Share on WhatsApp (Opens in new window)\n				WhatsApp\n			\n				Share on Nextdoor (Opens in new window)\n				Nextdoor\n			Like this:Like Loading...
URL:https://cclocalnews.org/event/yoga-in-the-gardens-10/
LOCATION:Minnesota Landscape Arboretum\, 3675 Arboretum Dr\, Chaska\, 55318\, 55318\, United States
CATEGORIES:Health and Fitness,Workshops and Seminars
ATTACH;FMTTYPE=image/png:https://cclocalnews.org/wp-content/uploads/2025/03/image-27.png
END:VEVENT
BEGIN:VEVENT
DTSTART;TZID=America/Chicago:20250629T100000
DTEND;TZID=America/Chicago:20250629T110000
DTSTAMP:20260420T032511
CREATED:20250425T074552Z
LAST-MODIFIED:20250425T074555Z
UID:10000378-1751191200-1751194800@cclocalnews.org
SUMMARY:Yoga in the Gardens
DESCRIPTION:Event Description:\n\n\n\nWith over 1\,200 acres of breathing room\, including peaceful indoor spaces\, the Arboretum serves as a refuge to rejuvenate the mind\, body and spirit in one of the greenest spaces in Minnesota. Our Yoga in the Gardens series features year-round wellness classes led by local instructors. Classes include traditional yoga\, meditation\, sound healing and more\, allowing you to explore what yoga is truly about. This session will be held near the Waterfall Pond. And your yoga ticket includes admission to the Arboretum – we’d love for you to experience our gardens before or after your yoga practice.  \n\n\n\nVisit the website to register.Members: $7.50 per classNon-members: $27.50 per classKids Yoga: $5 per child \n\n\n\n\n\nEvent Venue: \n\n\n\n\n\n\n\n\n\n\n\n\n\n\n\nWe strive to keep all listed events up to date\, but event details may change. Please verify event information with the event organizers or official sources before attending. \n\n\n\n\n\n\n\n\n\n\nShare this:\n				Share on X (Opens in new window)\n				X\n			\n				Share on Facebook (Opens in new window)\n				Facebook\n			\n				Email a link to a friend (Opens in new window)\n				Email\n			\n				Print (Opens in new window)\n				Print\n			More\n				Share on LinkedIn (Opens in new window)\n				LinkedIn\n			\n				Share on Reddit (Opens in new window)\n				Reddit\n			\n				Share on Tumblr (Opens in new window)\n				Tumblr\n			\n				Share on Threads (Opens in new window)\n				Threads\n			\n				Share on WhatsApp (Opens in new window)\n				WhatsApp\n			\n				Share on Nextdoor (Opens in new window)\n				Nextdoor\n			Like this:Like Loading...
URL:https://cclocalnews.org/event/yoga-in-the-gardens-12/
LOCATION:Minnesota Landscape Arboretum\, 3675 Arboretum Dr\, Chaska\, 55318\, 55318\, United States
CATEGORIES:Health and Fitness,Workshops and Seminars
ATTACH;FMTTYPE=image/png:https://cclocalnews.org/wp-content/uploads/2025/03/image-27.png
END:VEVENT
END:VCALENDAR