BEGIN:VCALENDAR
VERSION:2.0
PRODID:-//Carver County Local News - ECPv6.15.20//NONSGML v1.0//EN
CALSCALE:GREGORIAN
METHOD:PUBLISH
X-WR-CALNAME:Carver County Local News
X-ORIGINAL-URL:https://cclocalnews.org
X-WR-CALDESC:Events for Carver County Local News
REFRESH-INTERVAL;VALUE=DURATION:PT1H
X-Robots-Tag:noindex
X-PUBLISHED-TTL:PT1H
BEGIN:VTIMEZONE
TZID:America/Chicago
BEGIN:DAYLIGHT
TZOFFSETFROM:-0600
TZOFFSETTO:-0500
TZNAME:CDT
DTSTART:20250309T080000
END:DAYLIGHT
BEGIN:STANDARD
TZOFFSETFROM:-0500
TZOFFSETTO:-0600
TZNAME:CST
DTSTART:20251102T070000
END:STANDARD
BEGIN:DAYLIGHT
TZOFFSETFROM:-0600
TZOFFSETTO:-0500
TZNAME:CDT
DTSTART:20260308T080000
END:DAYLIGHT
BEGIN:STANDARD
TZOFFSETFROM:-0500
TZOFFSETTO:-0600
TZNAME:CST
DTSTART:20261101T070000
END:STANDARD
BEGIN:DAYLIGHT
TZOFFSETFROM:-0600
TZOFFSETTO:-0500
TZNAME:CDT
DTSTART:20270314T080000
END:DAYLIGHT
BEGIN:STANDARD
TZOFFSETFROM:-0500
TZOFFSETTO:-0600
TZNAME:CST
DTSTART:20271107T070000
END:STANDARD
END:VTIMEZONE
BEGIN:VEVENT
DTSTART;TZID=America/Chicago:20260416T130000
DTEND;TZID=America/Chicago:20260416T140000
DTSTAMP:20260420T031913
CREATED:20251126T014807Z
LAST-MODIFIED:20251126T014807Z
UID:10003307-1776344400-1776348000@cclocalnews.org
SUMMARY:Homeschool Archery Series
DESCRIPTION:Designed for homeschool families\, this archery series is hands-on learning in a fun\, supportive environment. Using compound and recurve bows\, students will build skills in range safety\, stance\, aim\, and release—guided by trained instructors. Each session includes engaging challenges and games to reinforce technique and keep things exciting. All equipment is provided. \nLike this:Like Loading...
URL:https://cclocalnews.org/event/homeschool-archery-series/
LOCATION:Lake Waconia Regional Park\, 8170 Paradise Ln\, Waconia\, 55387\, United States
CATEGORIES:Nature and Outdoors
ATTACH;FMTTYPE=image/jpeg:https://cclocalnews.org/wp-content/uploads/2025/11/Archery-Camp-Small.jpg
ORGANIZER;CN="Carver County Parks":MAILTO:mostergard@carvercountymn.org
END:VEVENT
BEGIN:VEVENT
DTSTART;TZID=America/Chicago:20260416T130000
DTEND;TZID=America/Chicago:20260416T150000
DTSTAMP:20260420T031913
CREATED:20260310T222656Z
LAST-MODIFIED:20260310T222656Z
UID:10003723-1776344400-1776351600@cclocalnews.org
SUMMARY:Spring Seasonal Teas
DESCRIPTION:Now you can enjoy this timeless tradition throughout the changing seasons as our chef creates delectable savories and sweets that include classic flavors as well as seasonal twists. Nestled in the Snyder building’s Tea Room\, this event is sure to delight the senses. Guests are welcome to enjoy the beauty of the Arboretum before or after with their tea ticket. We’re happy to accommodate vegetarian diets at our teas. \n  \nPlease let us know of any vegetarian requests when purchasing your ticket so we can prepare for your visit. No other substitutions or special dietary requests are available. We encourage you to register your entire party together so we can seat you accordingly. Please visit the website ($95/Non-Members\, $85/Members). \nLike this:Like Loading...
URL:https://cclocalnews.org/event/spring-seasonal-teas/2026-04-16/
LOCATION:Minnesota Landscape Arboretum\, 3675 Arboretum Dr\, Chaska\, 55318\, 55318\, United States
CATEGORIES:Community Events,Food and Drink
ATTACH;FMTTYPE=image/png:https://cclocalnews.org/wp-content/uploads/2026/03/1-7.png
END:VEVENT
BEGIN:VEVENT
DTSTART;TZID=America/Chicago:20260416T153000
DTEND;TZID=America/Chicago:20260416T163000
DTSTAMP:20260420T031913
CREATED:20251126T015039Z
LAST-MODIFIED:20251126T015039Z
UID:10003308-1776353400-1776357000@cclocalnews.org
SUMMARY:After School Archery Series
DESCRIPTION:Perfect for beginners and budding enthusiasts alike\, this after-school archery series helps youth build confidence and skill using compound and recurve bows. Participants will learn range safety\, proper stance\, aim\, and release techniques through the NASP (National Archery in the Schools Program) curriculum. Each session includes hands-on instruction\, shooting challenges\, and fun games to keep learning engaging and exciting. All equipment provided. \n  \nOffered in partnership with Carver County Parks. \nLike this:Like Loading...
URL:https://cclocalnews.org/event/after-school-archery-series/
LOCATION:Waconia Middle School\, 1400 Community Drive\, Waconia\, 55387\, United States
CATEGORIES:Nature and Outdoors,Sports and Recreation
ATTACH;FMTTYPE=image/jpeg:https://cclocalnews.org/wp-content/uploads/2025/11/Archery-Series-Small2.jpg
ORGANIZER;CN="Carver County Parks":MAILTO:mostergard@carvercountymn.org
END:VEVENT
END:VCALENDAR